   BEGIN:VCALENDAR
VERSION:2.0
PRODID:-//Viewley Hill - ECPv6.7.0//NONSGML v1.0//EN
CALSCALE:GREGORIAN
METHOD:PUBLISH
X-WR-CALNAME:Viewley Hill
X-ORIGINAL-URL:https://www.viewleyhillacademy.co.uk
X-WR-CALDESC:Events for Viewley Hill
REFRESH-INTERVAL;VALUE=DURATION:PT1H
X-Robots-Tag:noindex
X-PUBLISHED-TTL:PT1H
BEGIN:VTIMEZONE
TZID:UTC
BEGIN:STANDARD
TZOFFSETFROM:+0000
TZOFFSETTO:+0000
TZNAME:UTC
DTSTART:20230101T000000
END:STANDARD
END:VTIMEZONE
BEGIN:VEVENT
DTSTART;VALUE=DATE:20230501
DTEND;VALUE=DATE:20230502
DTSTAMP:20260424T145543
CREATED:20230417T114739Z
LAST-MODIFIED:20230417T114739Z
UID:6258-1682899200-1682985599@www.viewleyhillacademy.co.uk
SUMMARY:Bank Holiday
DESCRIPTION:
URL:https://www.viewleyhillacademy.co.uk/event/bank-holiday/
END:VEVENT
BEGIN:VEVENT
DTSTART;VALUE=DATE:20230505
DTEND;VALUE=DATE:20230506
DTSTAMP:20260424T145543
CREATED:20230417T113322Z
LAST-MODIFIED:20230417T113322Z
UID:6230-1683244800-1683331199@www.viewleyhillacademy.co.uk
SUMMARY:Family Friday - Reception
DESCRIPTION:
URL:https://www.viewleyhillacademy.co.uk/event/family-friday-reception/
END:VEVENT
BEGIN:VEVENT
DTSTART;VALUE=DATE:20230508
DTEND;VALUE=DATE:20230509
DTSTAMP:20260424T145543
CREATED:20230417T114758Z
LAST-MODIFIED:20230417T114758Z
UID:6260-1683504000-1683590399@www.viewleyhillacademy.co.uk
SUMMARY:Bank Holiday
DESCRIPTION:
URL:https://www.viewleyhillacademy.co.uk/event/bank-holiday-2/
END:VEVENT
BEGIN:VEVENT
DTSTART;TZID=UTC:20230509T080000
DTEND;TZID=UTC:20230512T170000
DTSTAMP:20260424T145543
CREATED:20230417T113159Z
LAST-MODIFIED:20230417T113159Z
UID:6228-1683619200-1683910800@www.viewleyhillacademy.co.uk
SUMMARY:Y6 SATS
DESCRIPTION:
URL:https://www.viewleyhillacademy.co.uk/event/y6-sats/
END:VEVENT
BEGIN:VEVENT
DTSTART;VALUE=DATE:20230512
DTEND;VALUE=DATE:20230513
DTSTAMP:20260424T145543
CREATED:20230417T113410Z
LAST-MODIFIED:20230417T113410Z
UID:6232-1683849600-1683935999@www.viewleyhillacademy.co.uk
SUMMARY:Family Friday - Miss Murphy
DESCRIPTION:
URL:https://www.viewleyhillacademy.co.uk/event/family-friday-miss-murphy-2/
END:VEVENT
BEGIN:VEVENT
DTSTART;TZID=UTC:20230515T080000
DTEND;TZID=UTC:20230526T170000
DTSTAMP:20260424T145543
CREATED:20230417T114359Z
LAST-MODIFIED:20230417T114359Z
UID:6250-1684137600-1685120400@www.viewleyhillacademy.co.uk
SUMMARY:Y2 Assessments
DESCRIPTION:
URL:https://www.viewleyhillacademy.co.uk/event/y2-assessments/
END:VEVENT
BEGIN:VEVENT
DTSTART;VALUE=DATE:20230519
DTEND;VALUE=DATE:20230520
DTSTAMP:20260424T145543
CREATED:20230417T113447Z
LAST-MODIFIED:20230417T113447Z
UID:6234-1684454400-1684540799@www.viewleyhillacademy.co.uk
SUMMARY:Family Friday - Miss Sheard
DESCRIPTION:
URL:https://www.viewleyhillacademy.co.uk/event/family-friday-miss-sheard/
END:VEVENT
BEGIN:VEVENT
DTSTART;VALUE=DATE:20230524
DTEND;VALUE=DATE:20230525
DTSTAMP:20260424T145543
CREATED:20230522T102502Z
LAST-MODIFIED:20230522T102502Z
UID:6276-1684886400-1684972799@www.viewleyhillacademy.co.uk
SUMMARY:Reception Trip
DESCRIPTION:
URL:https://www.viewleyhillacademy.co.uk/event/reception-trip-2/
END:VEVENT
BEGIN:VEVENT
DTSTART;VALUE=DATE:20230526
DTEND;VALUE=DATE:20230527
DTSTAMP:20260424T145543
CREATED:20230417T113542Z
LAST-MODIFIED:20230417T113542Z
UID:6236-1685059200-1685145599@www.viewleyhillacademy.co.uk
SUMMARY:Family Friday - Miss Shadforth
DESCRIPTION:
URL:https://www.viewleyhillacademy.co.uk/event/family-friday-miss-shadforth-2/
END:VEVENT
BEGIN:VEVENT
DTSTART;TZID=UTC:20230529T080000
DTEND;TZID=UTC:20230602T170000
DTSTAMP:20260424T145543
CREATED:20230417T114854Z
LAST-MODIFIED:20230417T114854Z
UID:6262-1685347200-1685725200@www.viewleyhillacademy.co.uk
SUMMARY:Half Term
DESCRIPTION:
URL:https://www.viewleyhillacademy.co.uk/event/half-term-2/
END:VEVENT
END:VCALENDAR