   BEGIN:VCALENDAR
VERSION:2.0
PRODID:-//Viewley Hill - ECPv6.7.0//NONSGML v1.0//EN
CALSCALE:GREGORIAN
METHOD:PUBLISH
X-ORIGINAL-URL:https://www.viewleyhillacademy.co.uk
X-WR-CALDESC:Events for Viewley Hill
REFRESH-INTERVAL;VALUE=DURATION:PT1H
X-Robots-Tag:noindex
X-PUBLISHED-TTL:PT1H
BEGIN:VTIMEZONE
TZID:UTC
BEGIN:STANDARD
TZOFFSETFROM:+0000
TZOFFSETTO:+0000
TZNAME:UTC
DTSTART:20230101T000000
END:STANDARD
END:VTIMEZONE
BEGIN:VEVENT
DTSTART;VALUE=DATE:20230417
DTEND;VALUE=DATE:20230418
DTSTAMP:20260424T161637
CREATED:20230417T114618Z
LAST-MODIFIED:20230417T114618Z
UID:6256-1681689600-1681775999@www.viewleyhillacademy.co.uk
SUMMARY:Start of Term
DESCRIPTION:
URL:https://www.viewleyhillacademy.co.uk/event/start-of-term-2/
END:VEVENT
BEGIN:VEVENT
DTSTART;VALUE=DATE:20230419
DTEND;VALUE=DATE:20230420
DTSTAMP:20260424T161637
CREATED:20230417T114106Z
LAST-MODIFIED:20230417T114106Z
UID:6248-1681862400-1681948799@www.viewleyhillacademy.co.uk
SUMMARY:Y5/6 Trip to Saltholme
DESCRIPTION:
URL:https://www.viewleyhillacademy.co.uk/event/y5-6-trip-to-saltholme/
END:VEVENT
END:VCALENDAR