   BEGIN:VCALENDAR
VERSION:2.0
PRODID:-//Viewley Hill - ECPv6.7.0//NONSGML v1.0//EN
CALSCALE:GREGORIAN
METHOD:PUBLISH
X-WR-CALNAME:Viewley Hill
X-ORIGINAL-URL:https://www.viewleyhillacademy.co.uk
X-WR-CALDESC:Events for Viewley Hill
REFRESH-INTERVAL;VALUE=DURATION:PT1H
X-Robots-Tag:noindex
X-PUBLISHED-TTL:PT1H
BEGIN:VTIMEZONE
TZID:UTC
BEGIN:STANDARD
TZOFFSETFROM:+0000
TZOFFSETTO:+0000
TZNAME:UTC
DTSTART:20230101T000000
END:STANDARD
END:VTIMEZONE
BEGIN:VEVENT
DTSTART;TZID=UTC:20231026T152000
DTEND;TZID=UTC:20231026T172000
DTSTAMP:20260424T092249
CREATED:20231026T124157Z
LAST-MODIFIED:20231026T124157Z
UID:6439-1698333600-1698340800@www.viewleyhillacademy.co.uk
SUMMARY:Parent's Evening for Mrs Dowson & Miss Glindon
DESCRIPTION:Teacher(s) available for parents evening: Lisa Dowson\, Julie Glindon \nEvent Description\nPlease find below Parent’s Evening times that are rescheduled for Mrs Dowson & Miss Glindon. \nView Event
URL:https://www.viewleyhillacademy.co.uk/event/parents-evening-for-mrs-dowson-miss-glindon/
END:VEVENT
BEGIN:VEVENT
DTSTART;TZID=UTC:20231026T152000
DTEND;TZID=UTC:20231026T172000
DTSTAMP:20260424T092249
CREATED:20231026T124157Z
LAST-MODIFIED:20231026T124157Z
UID:6440-1698333600-1698340800@www.viewleyhillacademy.co.uk
SUMMARY:Parent's Evening for Mrs Dowson & Miss Glindon
DESCRIPTION:Teacher(s) available for parents evening: Lisa Dowson \nEvent Description\nPlease find below Parent’s Evening times that are rescheduled for Mrs Dowson & Miss Glindon. \nView Event
URL:https://www.viewleyhillacademy.co.uk/event/parents-evening-for-mrs-dowson-miss-glindon-2/
END:VEVENT
END:VCALENDAR