   BEGIN:VCALENDAR
VERSION:2.0
PRODID:-//Viewley Hill - ECPv6.7.0//NONSGML v1.0//EN
CALSCALE:GREGORIAN
METHOD:PUBLISH
X-ORIGINAL-URL:https://www.viewleyhillacademy.co.uk
X-WR-CALDESC:Events for Viewley Hill
REFRESH-INTERVAL;VALUE=DURATION:PT1H
X-Robots-Tag:noindex
X-PUBLISHED-TTL:PT1H
BEGIN:VTIMEZONE
TZID:UTC
BEGIN:STANDARD
TZOFFSETFROM:+0000
TZOFFSETTO:+0000
TZNAME:UTC
DTSTART:20230101T000000
END:STANDARD
END:VTIMEZONE
BEGIN:VEVENT
DTSTART;TZID=UTC:20231016T152000
DTEND;TZID=UTC:20231016T173000
DTSTAMP:20260424T092339
CREATED:20231016T135852Z
LAST-MODIFIED:20231016T135852Z
UID:6409-1697469600-1697477400@www.viewleyhillacademy.co.uk
SUMMARY:Autumn Term Parents Evening
DESCRIPTION:Teacher(s) available for parents evening: Sarah McCabe\, Sarah Hanratty\, Rachel Sheard\, Natalie Bailey\, Leanne Smith\, Leah Hutchinson\, Lisa Dowson\, Lauren Clayton\, Katie Lockey\, Julie Glindon\, Jessica Booty\, Amy Murphy \nEvent Description\nWelcome to the Parents Evening Booking System \nWe are trialling booking this online so that you can pick your own appointment that suits your busy lives. Click on a time that you would like and enter your child’s unique key code.  This will block out this time for anyone else and will also alert the teacher that you are booked in to see them. \nThis is an opportunity for us to share how your child has settled into school since the start of the new year. \nWe can discuss how they are progressing and how you can help them at home. \n  \n  \nShould you need support to do this then please contact school \nView Event
URL:https://www.viewleyhillacademy.co.uk/event/autumn-term-parents-evening-2/
END:VEVENT
BEGIN:VEVENT
DTSTART;TZID=UTC:20231016T152000
DTEND;TZID=UTC:20231016T173000
DTSTAMP:20260424T092340
CREATED:20231016T135852Z
LAST-MODIFIED:20231016T135852Z
UID:6408-1697469600-1697477400@www.viewleyhillacademy.co.uk
SUMMARY:Autumn Term Parents Evening
DESCRIPTION:Teacher(s) available for parents evening: Sarah McCabe\, Sarah Hanratty\, Rachel Sheard\, Natalie Bailey\, Leanne Smith\, Leah Hutchinson\, Lisa Dowson\, Lauren Clayton\, Katie Lockey\, Julie Glindon\, Jessica Booty\, Amy Murphy \nEvent Description\nWelcome to the Parents Evening Booking System \nWe are trialling booking this online so that you can pick your own appointment that suits your busy lives. Click on a time that you would like and enter your child’s unique key code.  This will block out this time for anyone else and will also alert the teacher that you are booked in to see them. \nThis is an opportunity for us to share how your child has settled into school since the start of the new year. \nWe can discuss how they are progressing and how you can help them at home. \n  \n  \nShould you need support to do this then please contact school \nView Event
URL:https://www.viewleyhillacademy.co.uk/event/autumn-term-parents-evening/
END:VEVENT
END:VCALENDAR