   BEGIN:VCALENDAR
VERSION:2.0
PRODID:-//Viewley Hill - ECPv6.7.0//NONSGML v1.0//EN
CALSCALE:GREGORIAN
METHOD:PUBLISH
X-ORIGINAL-URL:https://www.viewleyhillacademy.co.uk
X-WR-CALDESC:Events for Viewley Hill
REFRESH-INTERVAL;VALUE=DURATION:PT1H
X-Robots-Tag:noindex
X-PUBLISHED-TTL:PT1H
BEGIN:VTIMEZONE
TZID:UTC
BEGIN:STANDARD
TZOFFSETFROM:+0000
TZOFFSETTO:+0000
TZNAME:UTC
DTSTART:20230101T000000
END:STANDARD
END:VTIMEZONE
BEGIN:VEVENT
DTSTART;TZID=UTC:20230605T080000
DTEND;TZID=UTC:20230616T170000
DTSTAMP:20260424T145634
CREATED:20230417T114508Z
LAST-MODIFIED:20230417T114508Z
UID:6252-1685952000-1686934800@www.viewleyhillacademy.co.uk
SUMMARY:Y4 Multiplication Check
DESCRIPTION:
URL:https://www.viewleyhillacademy.co.uk/event/y4-multiplication-check/
END:VEVENT
BEGIN:VEVENT
DTSTART;TZID=UTC:20230612T080000
DTEND;TZID=UTC:20230616T170000
DTSTAMP:20260424T145634
CREATED:20230417T114546Z
LAST-MODIFIED:20230417T114546Z
UID:6254-1686556800-1686934800@www.viewleyhillacademy.co.uk
SUMMARY:Y1 Phonics Check
DESCRIPTION:
URL:https://www.viewleyhillacademy.co.uk/event/y1-phonics-check-2/
END:VEVENT
BEGIN:VEVENT
DTSTART;TZID=UTC:20230612T080000
DTEND;TZID=UTC:20230616T170000
DTSTAMP:20260424T145634
CREATED:20230524T091751Z
LAST-MODIFIED:20230524T091751Z
UID:6303-1686556800-1686934800@www.viewleyhillacademy.co.uk
SUMMARY:Swimming - 4L
DESCRIPTION:
URL:https://www.viewleyhillacademy.co.uk/event/swimming-4l/
END:VEVENT
END:VCALENDAR