   BEGIN:VCALENDAR
VERSION:2.0
PRODID:-//Viewley Hill - ECPv6.7.0//NONSGML v1.0//EN
CALSCALE:GREGORIAN
METHOD:PUBLISH
X-WR-CALNAME:Viewley Hill
X-ORIGINAL-URL:https://www.viewleyhillacademy.co.uk
X-WR-CALDESC:Events for Viewley Hill
REFRESH-INTERVAL;VALUE=DURATION:PT1H
X-Robots-Tag:noindex
X-PUBLISHED-TTL:PT1H
BEGIN:VTIMEZONE
TZID:UTC
BEGIN:STANDARD
TZOFFSETFROM:+0000
TZOFFSETTO:+0000
TZNAME:UTC
DTSTART:20220101T000000
END:STANDARD
END:VTIMEZONE
BEGIN:VEVENT
DTSTART;VALUE=DATE:20220408
DTEND;VALUE=DATE:20220409
DTSTAMP:20260425T101959
CREATED:20220214T095639Z
LAST-MODIFIED:20220214T105015Z
UID:5813-1649376000-1649462399@www.viewleyhillacademy.co.uk
SUMMARY:Staff Training Day
DESCRIPTION:Children not in school.
URL:https://www.viewleyhillacademy.co.uk/event/staff-training-day/
END:VEVENT
END:VCALENDAR