   BEGIN:VCALENDAR
VERSION:2.0
PRODID:-//Viewley Hill - ECPv6.7.0//NONSGML v1.0//EN
CALSCALE:GREGORIAN
METHOD:PUBLISH
X-WR-CALNAME:Viewley Hill
X-ORIGINAL-URL:https://www.viewleyhillacademy.co.uk
X-WR-CALDESC:Events for Viewley Hill
REFRESH-INTERVAL;VALUE=DURATION:PT1H
X-Robots-Tag:noindex
X-PUBLISHED-TTL:PT1H
BEGIN:VTIMEZONE
TZID:UTC
BEGIN:STANDARD
TZOFFSETFROM:+0000
TZOFFSETTO:+0000
TZNAME:UTC
DTSTART:20220101T000000
END:STANDARD
END:VTIMEZONE
BEGIN:VEVENT
DTSTART;VALUE=DATE:20220406
DTEND;VALUE=DATE:20220407
DTSTAMP:20260425T101959
CREATED:20220217T113712Z
LAST-MODIFIED:20220330T082655Z
UID:5835-1649203200-1649289599@www.viewleyhillacademy.co.uk
SUMMARY:Viewley Hill Birthday Party (click link for more details)
DESCRIPTION:50th Birthday letter
URL:https://www.viewleyhillacademy.co.uk/event/viewley-hill-birthday-party-more-detail-to-follow/
END:VEVENT
END:VCALENDAR