   BEGIN:VCALENDAR
VERSION:2.0
PRODID:-//Viewley Hill - ECPv6.7.0//NONSGML v1.0//EN
CALSCALE:GREGORIAN
METHOD:PUBLISH
X-ORIGINAL-URL:https://www.viewleyhillacademy.co.uk
X-WR-CALDESC:Events for Viewley Hill
REFRESH-INTERVAL;VALUE=DURATION:PT1H
X-Robots-Tag:noindex
X-PUBLISHED-TTL:PT1H
BEGIN:VTIMEZONE
TZID:UTC
BEGIN:STANDARD
TZOFFSETFROM:+0000
TZOFFSETTO:+0000
TZNAME:UTC
DTSTART:20220101T000000
END:STANDARD
END:VTIMEZONE
BEGIN:VEVENT
DTSTART;TZID=UTC:20220321T000000
DTEND;TZID=UTC:20220325T235900
DTSTAMP:20260425T114353
CREATED:20220214T094206Z
LAST-MODIFIED:20220318T105024Z
UID:5807-1647820800-1648252740@www.viewleyhillacademy.co.uk
SUMMARY:Science Week
DESCRIPTION:
URL:https://www.viewleyhillacademy.co.uk/event/world-book-day-3/
END:VEVENT
END:VCALENDAR